BEGIN:VCALENDAR
VERSION:2.0
PRODID:-//chikkutakku.com//RDFCal 1.0//EN
X-WR-CALDESC:GoogleカレンダーやiCalendar形式情報を共有シェ
 アしましょう。近所のイベントから全国のイベントま
 で今日のイベント検索やスケジュールを決めるならち
 っくたっく
X-WR-CALNAME:ちっくたっく
X-WR-TIMEZONE:UTC
BEGIN:VEVENT
SUMMARY:津田さん①
DTSTART;VALUE=DATE-TIME:20260421T020000Z
DTEND;VALUE=DATE-TIME:20260421T081000Z
UID:319428447671
DESCRIPTION:🌻GMへの道🌻第19期ステップ①●会場　尾西
 グリーンプラザ🏣494-0018愛知県一宮市富田砂原2120-2☎
 ️ 0586-62-4165https://maps.app.goo.gl/PunRmizMPoqg7fcS8●日時　4月2
 1日(火)受付開始時間：10時30分スタート11時00分終了　　
 17時10分終了後チームアフター●持ち物・筆記用具　宿
 題(印刷し、仕上げて持参)　飲み物　マスク各自判断　
 継続参加の方はファイル持参。⚠️Aコース①〜⑦の書
 類を印刷して仕上げて持参してください。⚠️Ｂコー
 ス①〜⑩の書類を印刷して仕上げて持参してください
 。プライムストーリーエレベーターピッチ言える様に
 仕上げて来てください。⚠️夢リスト、リストアップ
 は普段使ってある物、書いてある物持参OKです。🔴Aコ
 ースBコース途中で別れてのセッションになります。ど
 ちらで申し込んだのか？把握してご参加ください。🔴
 要注意⚠️ファイルの件⚠️18期で使った資料は全て抜
 いて、ファイルのみをご持参ください。新しく参加さ
 れる方はこちらで準備します。⚠️温度調整しやすい
 、脱ぎ着出来る服装でお越し下さい。⚠️遅刻、早退
 不可です。余裕を持ってお越し下さい。●昼食　済ま
 せて来てください●休憩の時にパンが出ます。●参加
 者の皆さん、特に遠方からお越しになる方、くれぐれ
 も道中お気を付けて❣️🌺必須：素直な心と笑顔　☆
 体調不良の方は参加出来ませんので、　無理に参加な
 されない様、速やかに担当WSに連絡お願い致します🙇
 ‍♀️🌺皆様とお会いできる事、楽しみにしておりま
 す。
LOCATION:
END:VEVENT
END:VCALENDAR
