BEGIN:VCALENDAR
VERSION:2.0
PRODID:-//chikkutakku.com//RDFCal 1.0//EN
X-WR-CALDESC:GoogleカレンダーやiCalendar形式情報を共有シェ
 アしましょう。近所のイベントから全国のイベントま
 で今日のイベント検索やスケジュールを決めるならち
 っくたっく
X-WR-CALNAME:ちっくたっく
X-WR-TIMEZONE:UTC
BEGIN:VEVENT
SUMMARY:LinQ【千葉】イオンモール×LinQ＝笑顔の輪2026
DTSTART;VALUE=DATE:20260516
DTEND;VALUE=DATE:20260517
UID:319541929489
DESCRIPTION:【千葉】イオンモール×LinQ＝笑顔の輪2026【1部
 】集合時間 11時30分 / 開始時間 12時00分 / 終了予定時間 
 14時00分【2部】集合時間 15時00分 / 開始時間 15時30分 / 
 終了予定時間 17時30分　【会場】イオンモール柏【詳細
 】https://www.loveinq.com/175972.html
LOCATION:イオンモール柏\, 日本、〒277-0854 千葉県柏市豊
 町２丁目５−２５
END:VEVENT
END:VCALENDAR
