BEGIN:VCALENDAR
VERSION:2.0
PRODID:-//chikkutakku.com//RDFCal 1.0//EN
X-WR-CALDESC:GoogleカレンダーやiCalendar形式情報を共有シェ
 アしましょう。近所のイベントから全国のイベントま
 で今日のイベント検索やスケジュールを決めるならち
 っくたっく
X-WR-CALNAME:ちっくたっく
X-WR-TIMEZONE:UTC
BEGIN:VEVENT
SUMMARY:C- Private Mass (May Mallari)
DTSTART;VALUE=DATE-TIME:20260509T180000Z
DTEND;VALUE=DATE-TIME:20260509T190000Z
UID:319594629360
DESCRIPTION:Requested by May Mallari via text. MV
LOCATION:
END:VEVENT
END:VCALENDAR
