BEGIN:VCALENDAR
VERSION:2.0
PRODID:-//chikkutakku.com//RDFCal 1.0//EN
X-WR-CALDESC:GoogleカレンダーやiCalendar形式情報を共有シェ
 アしましょう。近所のイベントから全国のイベントま
 で今日のイベント検索やスケジュールを決めるならち
 っくたっく
X-WR-CALNAME:ちっくたっく
X-WR-TIMEZONE:UTC
BEGIN:VEVENT
SUMMARY:REQUIRED: CBL 2 Pathology/Immunology: Breast Cancer (IN-PERSON) (G
 roup B))
DTSTART;VALUE=DATE-TIME:20260424T180000Z
DTEND;VALUE=DATE-TIME:20260424T200000Z
UID:320591222210
DESCRIPTION:REQUIRED: CBL 2 Pathology/Immunology: Breast Cancer (IN-PERSON
 ) (Group B))
LOCATION:
END:VEVENT
END:VCALENDAR
