BEGIN:VCALENDAR
VERSION:2.0
PRODID:-//chikkutakku.com//RDFCal 1.0//EN
X-WR-CALDESC:GoogleカレンダーやiCalendar形式情報を共有シェ
 アしましょう。近所のイベントから全国のイベントま
 で今日のイベント検索やスケジュールを決めるならち
 っくたっく
X-WR-CALNAME:ちっくたっく
X-WR-TIMEZONE:UTC
BEGIN:VEVENT
SUMMARY:FEAST Dinner and Programs - 2 options\, "New Member Orientation - 
 must pre-register" or "Children's Spring Concert" 
DTSTART;VALUE=DATE-TIME:20260422T211500Z
DTEND;VALUE=DATE-TIME:20260422T230000Z
UID:321580291677
DESCRIPTION:FEAST Dinner and Programs - 2 options\, "New Member Orientatio
 n - must pre-register" or "Children's Spring Concert" 
LOCATION:
END:VEVENT
END:VCALENDAR
