BEGIN:VCALENDAR
VERSION:2.0
PRODID:-//chikkutakku.com//RDFCal 1.0//EN
X-WR-CALDESC:GoogleカレンダーやiCalendar形式情報を共有シェ
 アしましょう。近所のイベントから全国のイベントま
 で今日のイベント検索やスケジュールを決めるならち
 っくたっく
X-WR-CALNAME:ちっくたっく
X-WR-TIMEZONE:UTC
BEGIN:VEVENT
SUMMARY:フランスの海を旅するクロスステッチ
DTSTART;VALUE=DATE:20260510
DTEND;VALUE=DATE:20260511
UID:321613918166
DESCRIPTION:2026-05-11フランスの海を旅するクロスステッチ
 ヴェロニク・アンジャンジェ/安田 由美子/柴田 里芽グ
 ラフィック社
LOCATION:
END:VEVENT
END:VCALENDAR
