BEGIN:VCALENDAR
VERSION:2.0
PRODID:-//chikkutakku.com//RDFCal 1.0//EN
X-WR-CALDESC:GoogleカレンダーやiCalendar形式情報を共有シェ
 アしましょう。近所のイベントから全国のイベントま
 で今日のイベント検索やスケジュールを決めるならち
 っくたっく
X-WR-CALNAME:ちっくたっく
X-WR-TIMEZONE:UTC
BEGIN:VEVENT
SUMMARY:vspeed集会&講習会
DTSTART;VALUE=DATE-TIME:20260425T130000Z
DTEND;VALUE=DATE-TIME:20260425T140000Z
UID:322506978280
DESCRIPTION:【イベント主催者】\n　MarioZX08\n【イベント内
 容】\n　vspeed集会&講習会へようこそ！vspeed集会&講習会
 では、テキトーに参加して、テキトーに走って、テキ
 トーにしゃべって、テキトーに帰る。そんな自由なVRCha
 tの車に興味があるすべての人を対象とした集会となっ
 ています。（もちろん車あんま興味ない人でも大歓迎
 ！）さらに！VRChatのサーキットワールドで、教習員3名
 ・補助員2名がドリフトを教えます。「ドリフトに興味
 はあるけど難しそう」「やってみたいけど何から始め
 ればいいかわからない」そんな方におすすめです。完
 全初心者大歓迎で、サーキットワールドを走ったこと
 がない方向けの教習も用意しています。提供ワールド
 名阪Cコース⁄meihan c course -CVS2-茂原ツインサーキット⁄
 mobara twin -CVS2- \n【イベントジャンル】\n　学術系イベン
 ト\, 初心者向けイベント\, 定期イベント\n【参加条件（
 モデル、人数制限など）】\n　とくになし！フレンドと
 参加もOK！\n【参加方法】\n　\n（project Vspeed）https://vrc.g
 roup/VSP.2671に参加し、当日グループ＋へjoin\n【備考】\n
 　PM10：00～インスタンスオープン\n　  10：10～ちょっと
 だけ宣伝とか
LOCATION:
END:VEVENT
END:VCALENDAR
