BEGIN:VCALENDAR
VERSION:2.0
PRODID:-//chikkutakku.com//RDFCal 1.0//EN
X-WR-CALDESC:GoogleカレンダーやiCalendar形式情報を共有シェ
 アしましょう。近所のイベントから全国のイベントま
 で今日のイベント検索やスケジュールを決めるならち
 っくたっく
X-WR-CALNAME:ちっくたっく
X-WR-TIMEZONE:UTC
BEGIN:VEVENT
SUMMARY:文春ムック 週刊文春エンタ＋（プラス） 特集「
 パトレイバー」
DTSTART;VALUE=DATE:20260514
DTEND;VALUE=DATE:20260515
UID:322566050495
DESCRIPTION:2026-05-15文春ムック 週刊文春エンタ＋（プラス
 ） 特集「パトレイバー」文藝春秋編文藝春秋
LOCATION:
END:VEVENT
END:VCALENDAR
