BEGIN:VCALENDAR
VERSION:2.0
PRODID:-//chikkutakku.com//RDFCal 1.0//EN
X-WR-CALDESC:GoogleカレンダーやiCalendar形式情報を共有シェ
 アしましょう。近所のイベントから全国のイベントま
 で今日のイベント検索やスケジュールを決めるならち
 っくたっく
X-WR-CALNAME:ちっくたっく
X-WR-TIMEZONE:UTC
BEGIN:VEVENT
SUMMARY:大人になっても昼休みの正解がわからない！【電
 子単行本】 1巻
DTSTART;VALUE=DATE:20260423
DTEND;VALUE=DATE:20260424
UID:322667445300
DESCRIPTION:2026-04-24大人になっても昼休みの正解がわから
 ない！【電子単行本】 1巻石田ユニコーンforcs
LOCATION:
END:VEVENT
END:VCALENDAR
