BEGIN:VCALENDAR
VERSION:2.0
PRODID:-//chikkutakku.com//RDFCal 1.0//EN
X-WR-CALDESC:GoogleカレンダーやiCalendar形式情報を共有シェ
 アしましょう。近所のイベントから全国のイベントま
 で今日のイベント検索やスケジュールを決めるならち
 っくたっく
X-WR-CALNAME:ちっくたっく
X-WR-TIMEZONE:UTC
BEGIN:VEVENT
SUMMARY:【Android 対応】火曜はガンナガンの日【VRカード
 ゲーム】
DTSTART;VALUE=DATE-TIME:20260421T120000Z
DTEND;VALUE=DATE-TIME:20260421T130000Z
UID:322880739944
DESCRIPTION:【イベント主催者】\n　Tawashi_141\n【イベント
 内容】\n　VRChatで遊べるカードゲーム『ガンナガン』の
 カジュアルフリー対戦会です。\nGroup Publicにてどなたで
 も参加できます。\n途中入退場、出入り自由！1戦だけ
 でも軽く遊んでいきませんか?\n【イベントジャンル】\n
 　その他交流会\, 初心者向けイベント\, 定期イベント\n
 【参加条件（モデル、人数制限など）】\n　デスクトッ
 プ\,Quest単機の方でも遊べますが、スマホでのプレイは
 出来ません。\n【参加方法】\n　グループ『GAGEVT.2333』
 で開かれているGroupPublicインスタンスに参加\n【備考】\
 n　
LOCATION:
END:VEVENT
END:VCALENDAR
