BEGIN:VCALENDAR
VERSION:2.0
PRODID:-//chikkutakku.com//RDFCal 1.0//EN
X-WR-CALDESC:GoogleカレンダーやiCalendar形式情報を共有シェ
 アしましょう。近所のイベントから全国のイベントま
 で今日のイベント検索やスケジュールを決めるならち
 っくたっく
X-WR-CALNAME:ちっくたっく
X-WR-TIMEZONE:UTC
BEGIN:VEVENT
SUMMARY:【Android 対応】片目隠し・和装・鎖は好きですか
 ？　２６回目
DTSTART;VALUE=DATE-TIME:20260425T130000Z
DTEND;VALUE=DATE-TIME:20260425T140000Z
UID:322958120779
DESCRIPTION:【イベント主催者】\n　ねこみき\n【イベント
 内容】\n　片目隠しや和装や鎖が好き！改変したい！見
 たい！語りたい！そんな癖を持つ主催者の願望が満た
 されるかもしれないイベントです\n自分の好きなものを
 好きといえるこの世界で同じ嗜好をもつ方々の参加を
 お待ちしております\n【イベントジャンル】\n　改変ア
 バター交流会\n【参加条件（モデル、人数制限など）】
 \n　片目隠しが好き、和装が好き、鎖が好き、改変して
 る、興味があるのうち１つでも当てはまれば大丈夫で
 す\n※改変してなくても参加可能です\n禁止事項等はグ
 ループのルール欄をご覧ください\n【参加方法】\n　事
 前に片目隠し・和装・鎖は好きですか？グループ\n「KAT
 AME.4337」に登録して、当日時間になりましたらインスタ
 ンス（グループ＋）にログインをお願いします、集会
 への途中参加・途中退出は全て自由となっております\n
 【備考】\n　告知は以下でも行っています\nグループURL
 　https://vrc.group/KATAME.4337\n主催者 X　　　https://x.com/miki_p
 so
LOCATION:
END:VEVENT
END:VCALENDAR
