BEGIN:VCALENDAR
VERSION:2.0
PRODID:-//chikkutakku.com//RDFCal 1.0//EN
X-WR-CALDESC:GoogleカレンダーやiCalendar形式情報を共有シェ
 アしましょう。近所のイベントから全国のイベントま
 で今日のイベント検索やスケジュールを決めるならち
 っくたっく
X-WR-CALNAME:ちっくたっく
X-WR-TIMEZONE:UTC
BEGIN:VEVENT
SUMMARY:18:30柏木ひなた
DTSTART;VALUE=DATE:20260424
DTEND;VALUE=DATE:20260425
UID:323132756524
DESCRIPTION:柏木ひなた｢幸音」の発売を記念した、リリ
 ースイベントの開催が決定いたしました！\n\n【イベン
 ト内容】\nミニライブ+特典会(サイン会)\n\n■大阪府:タ
 ワーレコード梅田NU茶屋町店\n・日時:4月25日 (土) 18:30～
 \n・集合時間:18:00～
LOCATION:
END:VEVENT
END:VCALENDAR
