BEGIN:VCALENDAR
VERSION:2.0
PRODID:-//chikkutakku.com//RDFCal 1.0//EN
X-WR-CALDESC:GoogleカレンダーやiCalendar形式情報を共有シェ
 アしましょう。近所のイベントから全国のイベントま
 で今日のイベント検索やスケジュールを決めるならち
 っくたっく
X-WR-CALNAME:ちっくたっく
X-WR-TIMEZONE:UTC
BEGIN:VEVENT
SUMMARY:【Android 対応】【サイコロボードゲーム】ヤッツ
 ィー・ヨットで遊ぶ会
DTSTART;VALUE=DATE-TIME:20260421T120000Z
DTEND;VALUE=DATE-TIME:20260421T130000Z
UID:323174484802
DESCRIPTION:【イベント主催者】\n　maguro_\n【イベント内容
 】\n　サイコロを振るだけで遊べる簡単ボードゲーム、
 ヤッツィー(別名ヨット)で遊ぶ会です。ルールを知らな
 い方でも気軽に参加OKです。皆様の参加を心よりお待ち
 しております！\n【イベントジャンル】\n　その他交流
 会\n【参加条件（モデル、人数制限など）】\n　特にな
 し。\n【参加方法】\n　maguro_ にフレンド申請後Join(入る
 )、又はGroup(YAHT.9531)に加入してJoin(入る)\n【備考】\n　
LOCATION:
END:VEVENT
END:VCALENDAR
