BEGIN:VCALENDAR
VERSION:2.0
PRODID:-//chikkutakku.com//RDFCal 1.0//EN
X-WR-CALDESC:GoogleカレンダーやiCalendar形式情報を共有シェ
 アしましょう。近所のイベントから全国のイベントま
 で今日のイベント検索やスケジュールを決めるならち
 っくたっく
X-WR-CALNAME:ちっくたっく
X-WR-TIMEZONE:UTC
BEGIN:VEVENT
SUMMARY:Varsity Baseball @ Willard
DTSTART;VALUE=DATE-TIME:20260508T210000Z
DTEND;VALUE=DATE-TIME:20260508T220000Z
UID:323228852006
DESCRIPTION:Varsity Baseball @ Willard
LOCATION:Willard City Schools Sports Complex\, 400 Dean Ave\, Willard\, OH
  44890\, USA
END:VEVENT
END:VCALENDAR
