BEGIN:VCALENDAR
VERSION:2.0
PRODID:-//chikkutakku.com//RDFCal 1.0//EN
X-WR-CALDESC:GoogleカレンダーやiCalendar形式情報を共有シェ
 アしましょう。近所のイベントから全国のイベントま
 で今日のイベント検索やスケジュールを決めるならち
 っくたっく
X-WR-CALNAME:ちっくたっく
X-WR-TIMEZONE:UTC
BEGIN:VEVENT
SUMMARY:Daily Notices
DTSTART;VALUE=DATE:20260422
DTEND;VALUE=DATE:20260423
UID:323502151073
DESCRIPTION:Lit Quiz Training for team members- on Friday 24th at lunch ti
 me in H1. Questions will be on global mythology. Meeting for all libraria
 ns at interval on Tuesday (28th April) in the Library. Refreshments wil
 l be provided.University of Victoria are here on Tuesday 21 April in U2 @ 
 12:50. all welcome to join to learn about what they have to offer.Duke of 
 Edinburgh Meetings in G3 (Upstairs in Gym)Bronze - Meet at lunchtime on We
 dnesday 22nd AprilSilver and Gold - Meet at lunchtime on Friday 24th April
 Music and performing artsJazz Band - Tues lunchtimesSenior Choir - Tues af
 ter school and Thursday activitiesJunior Choir - Wednesday lunchtimesWhat'
 s on - Variety of concerts thorugh Whangārei Music Society (ongoing)- 
 Te Waiata Roa – The Long Song with Rob Thorne at the Hundertwasser Art C
 entre (this Friday)- Keep an eye out for NZ Music Month events on around t
 ownDrama Opportunity"The Emerging Directors' Programme is a series of inte
 nsives led by industry professionals in the community\, focused on empower
 ing young performers into leadership\, self-direction\, ultimately with th
 e aim that they can begin taking responsibility for their own creative pa
 thways. It culminates in an anthology production\, usually a collection of
  scenes from various plays\, performed at ONEONESIX." - please talk to Mrs
  Cook or Miss pridham if you are interested. We are looking for hungry yo
 ung performing artists\, who are keen to give something special a thrash.
 Play it Strange Songwriting Competition entry closing dates (STUDENT LED P
 ROJECT)- Junior Songwriting Competition (yr9-11): 3 May- Peace Project: 24
  May- Waiata Māori Competition: 28 June- National Songwriting Competition
 : 26 July- Album Art Competition: 3 AugustEnter at playitstrange.org.nz/co
 mpetitions  Calling musicians - Smokefree Rockqest and Smokefree Tangata
  Beats Entries/HeatsAccess the Tangata Beats and Rockquest entries hereMor
 e info about all events available hereN.B. Participation in Play It Strang
 e and Rockquest is entirely student-led. Students are responsible for form
 ing their own groups\, organising rehearsals\, writing and preparing their
  material\, and completing all entry requirements. While the school is sup
 portive of students pursuing these opportunities\, there is no direct invo
 lvement from teachers in the preparation or submission process. Gym Weigh
 ts Room UseThe Weights Room upstairs in the gym is available for students 
 in Year 9 – 13 to use during lunchtimes. However\, you need to be induct
 ed and taken through a safety briefing before you can use it. If this is s
 omething you are interested in\, see the PE teaching staff. +++Rock band 
 TutorAre you in a rock band and would be keen for tutoring from a professi
 onal rock musician? Tutoring sessions may be available depending on studen
 t interest! See Miss Pridham in U7 for details (fee applies). Drum lesson
 s available - email Miss Pridham. +++Kia ora Years 11-13\,I am accepting 
 expressions of interest in regards to the Auckland Writers Festival school
  trip on Wednesday 13th May (please check if you have a Cambridge External
  Examination on this day). You will need to check with your teachers if it
 's okay to miss the school day. I have 11 seats only. Preference to 13s fi
 rst.Please email or see me if you are interested. tracie.lark@hc.school.n
 zDAY 2 WEDNESDAY 13 MAY SECONDARY YEARS 9-13: 10.00am – 10.45am Kiri Te
  Kanawa Theatre Gilbert Enoka10.55am – 11.40am Kiri Te Kanawa Theatre 
 Josh Silver11.40am Lunch &amp\; Book Signing12.30pm – 1.15pm Kiri Te Kan
 awa Theatre Nikita Gill1.25pm – 2.10pm Kiri Te Kanawa Theatre Matariki
  Bennett &amp\; Manaia Tuwhare-Hoani2.10pm Finish &amp\; Book Signing.We 
 leave around 630am and usually are home around 530pm.MsL:)+++
LOCATION:
END:VEVENT
END:VCALENDAR
