BEGIN:VCALENDAR
VERSION:2.0
PRODID:-//chikkutakku.com//RDFCal 1.0//EN
X-WR-CALDESC:GoogleカレンダーやiCalendar形式情報を共有シェ
 アしましょう。近所のイベントから全国のイベントま
 で今日のイベント検索やスケジュールを決めるならち
 っくたっく
X-WR-CALNAME:ちっくたっく
X-WR-TIMEZONE:UTC
BEGIN:VEVENT
SUMMARY:全国学力調査6年
DTSTART;VALUE=DATE:20260422
DTEND;VALUE=DATE:20260424
UID:324420932162
DESCRIPTION:全国学力調査6年
LOCATION:
END:VEVENT
END:VCALENDAR
