BEGIN:VCALENDAR
VERSION:2.0
PRODID:-//chikkutakku.com//RDFCal 1.0//EN
X-WR-CALDESC:GoogleカレンダーやiCalendar形式情報を共有シェ
 アしましょう。近所のイベントから全国のイベントま
 で今日のイベント検索やスケジュールを決めるならち
 っくたっく
X-WR-CALNAME:ちっくたっく
X-WR-TIMEZONE:UTC
BEGIN:VEVENT
SUMMARY:🥼 พิธีมอบเสื้อกาวน์สำห
 รับฝึกปฏิบัติงานทางคลินิ
 ก แก่นักศึกษาทันตแพทย์ ชั้
 นปีที่ 4 🟣หลักสูตรทันตแพทย
 ศาสตร์บัณฑิต และ 🟣หลักสูต
 รทันตแพทยศาสตร์บัณฑิต (หลั
 กสูตรนานาชาติ) ประจำปีการศ
 ึกษา 2569  ข่าวประชาสัมพันธ์จ
 าก : หน่วยกิจการนักศึกษาแล
 ะศิษย์เก่าสัมพันธ์
DTSTART;VALUE=DATE-TIME:20260506T053000Z
DTEND;VALUE=DATE-TIME:20260506T080000Z
UID:324443939825
DESCRIPTION:ขอเรียนเชิญ ผู้บริหาร 
 หัวหน้าภาควิชา คณาจารย์ปร
 ะจำภาควิชาอาจารย์ที่ปรึก
 ษา และผู้ปกครองนักศึกษาทั
 นตแพทย์ ชั้นปีที่ 4🥼 พิธีมอ
 บเสื้อกาวน์สำหรับฝึกปฏิบ
 ัติงานทางคลินิกแก่นักศึก
 ษาทันตแพทย์ ชั้นปีที่ 4🟣หล
 ักสูตรทันตแพทยศาสตร์บัณฑ
 ิต และ🟣หลักสูตรทันตแพทยศา
 สตร์บัณฑิต (หลักสูตรนานาชา
 ติ)ประจำปีการศึกษา 2569ข่าวป
 ระชาสัมพันธ์จาก : หน่วยกิจ
 การนักศึกษาและศิษย์เก่าส
 ัมพันธ์⏰ วันเวลาที่เริ่มง
 าน :6 พฤษภาคม 2569 เวลา 12.30 - 15.00 น .📍 
 สถานที่ :ณ ห้องประชุมเทพรั
 ตนทันตกิจสโมสร ชั้น 4อาคาร
 เฉลิมพระเกียรติ 50 พรรษา☎️ ต
 ิดต่อสอบถาม :หน่วยกิจการนั
 กศึกษาและศิษย์เก่าสัมพัน
 ธ์โทร. 02 200 7649Link ข่าวประชาสัมพ
 ันธ์ :https://dt.mahidol.ac.th/news/news-20260416-2/
LOCATION:ณ ห้องประชุมเทพรัตนทัน
 ตกิจสโมสร ชั้น 4 อาคารเฉลิม
 พระเกียรติ 50 พรรษา
END:VEVENT
END:VCALENDAR
