BEGIN:VCALENDAR
VERSION:2.0
PRODID:-//chikkutakku.com//RDFCal 1.0//EN
X-WR-CALDESC:GoogleカレンダーやiCalendar形式情報を共有シェ
 アしましょう。近所のイベントから全国のイベントま
 で今日のイベント検索やスケジュールを決めるならち
 っくたっく
X-WR-CALNAME:ちっくたっく
X-WR-TIMEZONE:UTC
BEGIN:VEVENT
SUMMARY:RUGBY: Somerset vs HTS Belville (A)
DTSTART;VALUE=DATE-TIME:20260516T043000Z
DTEND;VALUE=DATE-TIME:20260516T100000Z
UID:324552104768
DESCRIPTION:RUGBY: Somerset vs HTS Belville (A)
LOCATION:Bellville Technical High School\, Strand &\, College Rd\, Labianc
 e\, Cape Town\, 7530\, South Africa
END:VEVENT
END:VCALENDAR
