BEGIN:VCALENDAR
VERSION:2.0
PRODID:-//chikkutakku.com//RDFCal 1.0//EN
X-WR-CALDESC:GoogleカレンダーやiCalendar形式情報を共有シェ
 アしましょう。近所のイベントから全国のイベントま
 で今日のイベント検索やスケジュールを決めるならち
 っくたっく
X-WR-CALNAME:ちっくたっく
X-WR-TIMEZONE:UTC
BEGIN:VEVENT
SUMMARY:バス送迎
DTSTART;VALUE=DATE-TIME:20260423T070000Z
DTEND;VALUE=DATE-TIME:20260423T100000Z
UID:325297667501
DESCRIPTION:マイクロバス\n16:45　ファミリーマート金沢菊
 川店①\n16:50　北國銀行大桑橋店②\n17:00　セブンイレブ
 ン金沢泉野出町1丁目店③\n17:03　ファミリーマート金沢
 伏見新町店①\n17:06　ローソン金沢山科店②\n17:12　クス
 リのアオキ扇が丘店①\n17:20　加幸庵①\n17:30　若宮公園
 ①\n17:36　松任駅南口②\n17:44　セブンイレブン白山中成
 ２丁目店②\n17:47　津田食品①\n17:48　食彩ひで喜①\n17:5
 2　セブンイレブン白山宮永店①\n18:00　ファミリーマー
 ト野々市郷二丁目店①\n18:04　セイナン①\n18:08　ローソ
 ン御経塚北店①\n18:18　マルエー間明店①\n18:26　ファミ
 リーマート金沢松村店①\nキャラバン\n17:35　ウエルシ
 ア金沢三池店①\n17:45　クスリのアオキ森本店①\n17:55　
 ファミリーマート金沢小坂町店②\n18:00　東金沢駅東口
 ②\n18:05　ローソン金沢神宮寺二丁目店①\n18:15　金沢市
 立明成小学校①\n18:17　旧北國銀行金沢駅前支店①\n18:20
 　ファミリーマート金沢堀川店①\n18:25　サンレー金沢
 紫雲閣①\n18:30　金沢駅西口①
LOCATION:スポーツ交流広場\, 日本、〒851-3214 石川県金沢
 市磯部町地内ハ
END:VEVENT
END:VCALENDAR
