BEGIN:VCALENDAR
VERSION:2.0
PRODID:-//chikkutakku.com//RDFCal 1.0//EN
X-WR-CALDESC:GoogleカレンダーやiCalendar形式情報を共有シェ
 アしましょう。近所のイベントから全国のイベントま
 で今日のイベント検索やスケジュールを決めるならち
 っくたっく
X-WR-CALNAME:ちっくたっく
X-WR-TIMEZONE:UTC
BEGIN:VEVENT
SUMMARY:マリコアカデミィ
DTSTART;VALUE=DATE:20260429
DTEND;VALUE=DATE:20260430
UID:325329229388
DESCRIPTION:音読と、ボディワークと、お昼ごはんにお茶
 の時間。\nマインドフルに過ごす【鎌倉リトリート】\n\
 n音読で自分の声の響きを感じ、ボディワークで強張っ
 た体をほどく。\n四季折々の自然の息吹のなかで丁寧に
 食を味わう昼食やお茶の時間。\nそんなマインドフルな
 時間を、ご一緒したいのです。\n脳と心をふわりと軽く
 する少人数のリトリート。ぜひお楽しみください。\n\n
 【詳細】\nhttps://mariko-bushido.jp/archives/8350\n\n【日程】\n朝
 10時頃から午後4時くらいまで\n\n【場所】\nたからの庭
 （ホールスペース）\n\n【主催】\nマリコアカデミィ\n\n
 石川真理子（いしかわ まりこ）\n作家・随筆家　武士
 道研究家　下田歌子賞選考委員　マリコアカデミィ主
 宰　一般社団法人 Bushido 文化協会 理事
LOCATION:
END:VEVENT
END:VCALENDAR
