BEGIN:VCALENDAR
VERSION:2.0
PRODID:-//chikkutakku.com//RDFCal 1.0//EN
X-WR-CALDESC:GoogleカレンダーやiCalendar形式情報を共有シェ
 アしましょう。近所のイベントから全国のイベントま
 で今日のイベント検索やスケジュールを決めるならち
 っくたっく
X-WR-CALNAME:ちっくたっく
X-WR-TIMEZONE:UTC
BEGIN:VEVENT
SUMMARY:マイルス・デイヴィス研究入門
DTSTART;VALUE=DATE:20260519
DTEND;VALUE=DATE:20260520
UID:325561861165
DESCRIPTION:2026-05-20マイルス・デイヴィス研究入門小室 敬
 幸星海社
LOCATION:
END:VEVENT
END:VCALENDAR
