BEGIN:VCALENDAR
VERSION:2.0
PRODID:-//chikkutakku.com//RDFCal 1.0//EN
X-WR-CALDESC:GoogleカレンダーやiCalendar形式情報を共有シェ
 アしましょう。近所のイベントから全国のイベントま
 で今日のイベント検索やスケジュールを決めるならち
 っくたっく
X-WR-CALNAME:ちっくたっく
X-WR-TIMEZONE:UTC
BEGIN:VEVENT
SUMMARY:日本を救う最強の中堅企業
DTSTART;VALUE=DATE:20260423
DTEND;VALUE=DATE:20260424
UID:325869540136
DESCRIPTION:2026-04-24日本を救う最強の中堅企業日経トップ
 リーダー/経済産業省/経済産業研究所（RIETI）日経BP
LOCATION:
END:VEVENT
END:VCALENDAR
