BEGIN:VCALENDAR
VERSION:2.0
PRODID:-//chikkutakku.com//RDFCal 1.0//EN
X-WR-CALDESC:GoogleカレンダーやiCalendar形式情報を共有シェ
 アしましょう。近所のイベントから全国のイベントま
 で今日のイベント検索やスケジュールを決めるならち
 っくたっく
X-WR-CALNAME:ちっくたっく
X-WR-TIMEZONE:UTC
BEGIN:VEVENT
SUMMARY:International Respect for Chickens Day
DTSTART;VALUE=DATE-TIME:20260503T220000Z
DTEND;VALUE=DATE-TIME:20260504T220000Z
UID:326201116661
DESCRIPTION:International Respect for Chickens Day exists &quot\;to celebr
 ate chickens throughout the world and protest the bleakness of their lives
  in farming operati…\n\nUpdated: Tue\, 26 Apr 2022 01:00:00 +0000\n\nAdd
 itional information\nhttps://www.checkiday.com/a4b18e86bc8d86b306e7f88aa94
 8b2dd/international-respect-for-chickens-day\n\nModify subscription\nhttps
 ://www.webcal.guru/en-ZA/my_calendars?subscription_id_hex=a6a178eda9533888
 2a7e7ad3ce7476da\n\nThis calendar is provided by WebCal.Guru (https://www.
 webcal.guru/).
LOCATION:
END:VEVENT
END:VCALENDAR
