BEGIN:VCALENDAR
VERSION:2.0
PRODID:-//chikkutakku.com//RDFCal 1.0//EN
X-WR-CALDESC:GoogleカレンダーやiCalendar形式情報を共有シェ
 アしましょう。近所のイベントから全国のイベントま
 で今日のイベント検索やスケジュールを決めるならち
 っくたっく
X-WR-CALNAME:ちっくたっく
X-WR-TIMEZONE:UTC
BEGIN:VEVENT
SUMMARY:科学の芽えほん トマトパスタが はねる なぞを 
 とけ
DTSTART;VALUE=DATE:20260519
DTEND;VALUE=DATE:20260520
UID:326479940521
DESCRIPTION:2026-05-20科学の芽えほん トマトパスタが はね
 る なぞを とけかんちく たかこ/北村 みなみ/今野 柚希
 講談社
LOCATION:
END:VEVENT
END:VCALENDAR
