BEGIN:VCALENDAR
VERSION:2.0
PRODID:-//chikkutakku.com//RDFCal 1.0//EN
X-WR-CALDESC:GoogleカレンダーやiCalendar形式情報を共有シェ
 アしましょう。近所のイベントから全国のイベントま
 で今日のイベント検索やスケジュールを決めるならち
 っくたっく
X-WR-CALNAME:ちっくたっく
X-WR-TIMEZONE:UTC
BEGIN:VEVENT
SUMMARY:【DJイベント】SYNC DIVE CLUB HARDSTYLE
DTSTART;VALUE=DATE-TIME:20260428T115000Z
DTEND;VALUE=DATE-TIME:20260428T140000Z
UID:326773100859
DESCRIPTION:【イベント主催者】\n　masakoha\n【イベント内
 容】\n　　様々なコンセプトを持って DJ イベントを開
 催します。今回は HARDSTYLE 回！\nDJ イベントが初めてと
 いう方も、音楽をぜひとも聴きにきてください！\n\n【D
 J】\nコヤマ\nともろ\nYutayuki\n【イベントジャンル】\n　
 音楽系イベント\n【参加条件（モデル、人数制限など）
 】\n　特になし\n【参加方法】\n　masakoha または Group+ ま
 たは各DJ に Join\n【備考】\n　
LOCATION:
END:VEVENT
END:VCALENDAR
