BEGIN:VCALENDAR
VERSION:2.0
PRODID:-//chikkutakku.com//RDFCal 1.0//EN
X-WR-CALDESC:GoogleカレンダーやiCalendar形式情報を共有シェ
 アしましょう。近所のイベントから全国のイベントま
 で今日のイベント検索やスケジュールを決めるならち
 っくたっく
X-WR-CALNAME:ちっくたっく
X-WR-TIMEZONE:UTC
BEGIN:VEVENT
SUMMARY:(รองฯเจริญ)เชิญประชุมคณ
 ะกรรมการจัดระเบียบพื้นที
 ่บริเวณศาลากลางจังหวัดสม
 ุทรสงครามและพื้นที่โดยรอ
 บ ครั้งที่3/2569
DTSTART;VALUE=DATE-TIME:20260421T023000Z
DTEND;VALUE=DATE-TIME:20260421T050000Z
UID:326791833386
DESCRIPTION:(รองฯเจริญ)เชิญประชุมค
 ณะกรรมการจัดระเบียบพื้นท
 ี่บริเวณศาลากลางจังหวัดส
 มุทรสงครามและพื้นที่โดยร
 อบ ครั้งที่3/2569
LOCATION:ณ ห้องประชุมบางคนที ชั้
 น3 ศาลากลางจังหวัดสมุทรสงค
 ราม
END:VEVENT
END:VCALENDAR
