BEGIN:VCALENDAR
VERSION:2.0
PRODID:-//chikkutakku.com//RDFCal 1.0//EN
X-WR-CALDESC:GoogleカレンダーやiCalendar形式情報を共有シェ
 アしましょう。近所のイベントから全国のイベントま
 で今日のイベント検索やスケジュールを決めるならち
 っくたっく
X-WR-CALNAME:ちっくたっく
X-WR-TIMEZONE:UTC
BEGIN:VEVENT
SUMMARY:【Android 対応】VRCぼて腹集会【group BTBR.9814にjoin】
DTSTART;VALUE=DATE-TIME:20260425T133000Z
DTEND;VALUE=DATE-TIME:20260425T143000Z
UID:326908156064
DESCRIPTION:【イベント主催者】\n　siv-k\n【イベント内容
 】\n　お腹が大きい子が好きな人が集まってワイワイし
 たりする会\n【イベントジャンル】\n　改変アバター交
 流会\, その他交流会\, 定期イベント\n【参加条件（モデ
 ル、人数制限など）】\n　お腹が大きな子が好きな方、
 プライバシーを守れる方\n【参加方法】\n　参加方法\n
 時間までにグループにJOIN\n時間になるとグループ内Insta
 ncesが開くのでそこにJOIN\n（途中参加・途中退出自由）\
 n\n【グループへの参加方法 : VRChat内】\n①Groupsメニュー
 を開き、「+ Find a Group」を開く\n②「Enter a search term…」
 で「BTBR.9814」と入力しSubmit\n③VRCぼて腹集会Groupが表示
 されたら「Join This Group」を押す\n\n【グループへの参加
 方法 : Webブラウザ】\n①https://vrc.group/BTBR.9814 を開く\n②
 VRCぼて腹集会Groupが表示されたら、「+ Join Group」を押す
 \n③グループのルールが表示されるので、OKなら「+ Join 
 Group」を押す\n【備考】\n　https://discord.gg/8cskAnJCAP
LOCATION:
END:VEVENT
END:VCALENDAR
