BEGIN:VCALENDAR
VERSION:2.0
PRODID:-//chikkutakku.com//RDFCal 1.0//EN
X-WR-CALDESC:GoogleカレンダーやiCalendar形式情報を共有シェ
 アしましょう。近所のイベントから全国のイベントま
 で今日のイベント検索やスケジュールを決めるならち
 っくたっく
X-WR-CALNAME:ちっくたっく
X-WR-TIMEZONE:UTC
BEGIN:VEVENT
SUMMARY:バニーガールBAR『FACELESS』【hannnamahiiroにJOIN】
DTSTART;VALUE=DATE-TIME:20260424T130000Z
DTEND;VALUE=DATE-TIME:20260424T140000Z
UID:326973046163
DESCRIPTION:【イベント主催者】\n　VRChatイベントGroup『FACE
 LESS』\n【イベント内容】\n　今週末、バニーに癒やされ
 ませんか？🐰\n\nバニーガールBAR《FACELESS》開店！\n賑
 やかな夜も、ゆったりしたトークも。 \nキャスト一同
 、貴方のご来店をお待ちしております。\n\n業務内容『
 バニーガールキャストとの会話』\n\n【イベントジャン
 ル】\n　改変アバター交流会\, その他交流会\, VR飲み会\
 , 店舗系イベント\, 初心者向けイベント\n【参加条件（
 モデル、人数制限など）】\n　キャストと楽しくおしゃ
 べりをしたい方\nVRChatのルールを守れる方\n説明される
 お店ルールを守れる方\n【参加方法】\n　https://vrc.group/F
 ACELE.3070                        \nこちらのグループに参加い
 ただき、時間になりましたら                        \n「hannna
 mahiiro」もしくは「グループインスタンス」へJOIN   \n【
 備考】\n　https://x.com/FACELESS_VRC
LOCATION:
END:VEVENT
END:VCALENDAR
