BEGIN:VCALENDAR
VERSION:2.0
PRODID:-//chikkutakku.com//RDFCal 1.0//EN
X-WR-CALDESC:GoogleカレンダーやiCalendar形式情報を共有シェ
 アしましょう。近所のイベントから全国のイベントま
 で今日のイベント検索やスケジュールを決めるならち
 っくたっく
X-WR-CALNAME:ちっくたっく
X-WR-TIMEZONE:UTC
BEGIN:VEVENT
SUMMARY:MEILI CHARM、MEWCATUNE、SYAAMiNE、YOPiTTE＠MEILI CHARM 1st ANN
 IVERSARY
DTSTART;VALUE=DATE-TIME:20260503T043000Z
DTEND;VALUE=DATE-TIME:20260503T073000Z
UID:328130345937
DESCRIPTION:MEILI CHARM 1st ANNIVERSARY5/3 (日)OPEN 13:00 / START 13:30
 予約 3000円 / 当日 3500 (別途ドリンク代500円)http://tiget.net
 /events/482388出演 MEILI CHARM / MEWCATUNE / SYAAMiNE / YOPiTTE / Jasmin
 e Lamp / AYANE / 市ノ瀬瑠莉 / Soniel
LOCATION:CLUB RIVERST\, 日本、〒950-0901 新潟県新潟市中央区
 弁天３丁目３−５ 新潟マンション地下１階
END:VEVENT
END:VCALENDAR
