BEGIN:VCALENDAR
VERSION:2.0
PRODID:-//chikkutakku.com//RDFCal 1.0//EN
X-WR-CALDESC:GoogleカレンダーやiCalendar形式情報を共有シェ
 アしましょう。近所のイベントから全国のイベントま
 で今日のイベント検索やスケジュールを決めるならち
 っくたっく
X-WR-CALNAME:ちっくたっく
X-WR-TIMEZONE:UTC
BEGIN:VEVENT
SUMMARY:(นพ.สสจ.)ประธานในพิธีฉลิ
 งมงคลสมรส คุณวิลาสิณี & คุณ
 พัชรวัฒน์ ณ โรงแรมแกลลอรี่
  ดีไซด์
DTSTART;VALUE=DATE-TIME:20260426T040900Z
DTEND;VALUE=DATE-TIME:20260426T060000Z
UID:328144178448
DESCRIPTION:(นพ.สสจ.)ประธานในพิธีฉล
 ิงมงคลสมรส คุณวิลาสิณี & คุ
 ณพัชรวัฒน์ ณ โรงแรมแกลลอรี
 ่ ดีไซด์
LOCATION:
END:VEVENT
END:VCALENDAR
