BEGIN:VCALENDAR
VERSION:2.0
PRODID:-//chikkutakku.com//RDFCal 1.0//EN
X-WR-CALDESC:GoogleカレンダーやiCalendar形式情報を共有シェ
 アしましょう。近所のイベントから全国のイベントま
 で今日のイベント検索やスケジュールを決めるならち
 っくたっく
X-WR-CALNAME:ちっくたっく
X-WR-TIMEZONE:UTC
BEGIN:VEVENT
SUMMARY:14:00EBiDAN OSAKA
DTSTART;VALUE=DATE:20260424
DTEND;VALUE=DATE:20260425
UID:328553800610
DESCRIPTION:EBiDAN OSAKA「ほな！楽しもか！！2026April〜いく
 で！HMV &BOOKS NAMBA〜」 in HMV&BOOKS NAMBA\n\n★日時\n2026年
 4月25日(土）14:00〜\n※整列開始は開演30分前を予定して
 います\n物販開始：11:05頃予定 特典会：ライブ終了後\n
 \n★イベント会場\nHMV&BOOKS NAMBA 店内イベントスペース\
 n\n★出演\n◉EBiDAN OSAKA\n浅岡大智・岡本拓門・小川碧詩
 ・髙橋夢人・鈴木瑛斗・畑駿平\n池田楓雅・白石嵐丸・
 松岡郁弥・宮﨑大空・有岡歩斗\n松山聖矢・矢野原圭吾
LOCATION:
END:VEVENT
END:VCALENDAR
