BEGIN:VCALENDAR
VERSION:2.0
PRODID:-//chikkutakku.com//RDFCal 1.0//EN
X-WR-CALDESC:GoogleカレンダーやiCalendar形式情報を共有シェ
 アしましょう。近所のイベントから全国のイベントま
 で今日のイベント検索やスケジュールを決めるならち
 っくたっく
X-WR-CALNAME:ちっくたっく
X-WR-TIMEZONE:UTC
BEGIN:VEVENT
SUMMARY:Swim Carnival Teacher Meeting- Auditorium (for all teachers attend
 ing Carnival)
DTSTART;VALUE=DATE-TIME:20260427T030000Z
DTEND;VALUE=DATE-TIME:20260427T040000Z
UID:329678433729
DESCRIPTION:通过 Google Meet 加入：https://meet.google.com/tzu-jzqb-a
 we\n或者拨打以下号码：(US) +1 319-382-9376 PIN 码： 117706045#\
 n\n如需详细了解 Google Meet，请访问：https://support.google.com
 /a/users/answer/9282720
LOCATION:
END:VEVENT
END:VCALENDAR
