BEGIN:VCALENDAR
VERSION:2.0
PRODID:-//chikkutakku.com//RDFCal 1.0//EN
X-WR-CALDESC:GoogleカレンダーやiCalendar形式情報を共有シェ
 アしましょう。近所のイベントから全国のイベントま
 で今日のイベント検索やスケジュールを決めるならち
 っくたっく
X-WR-CALNAME:ちっくたっく
X-WR-TIMEZONE:UTC
BEGIN:VEVENT
SUMMARY:物語北欧神話 上【普及版】
DTSTART;VALUE=DATE:20260420
DTEND;VALUE=DATE:20260421
UID:329744025442
DESCRIPTION:2026-04-21物語北欧神話 上【普及版】ニール・ゲ
 イマン/金原 瑞人/野沢 佳織原書房
LOCATION:
END:VEVENT
END:VCALENDAR
