BEGIN:VCALENDAR
VERSION:2.0
PRODID:-//chikkutakku.com//RDFCal 1.0//EN
X-WR-CALDESC:GoogleカレンダーやiCalendar形式情報を共有シェ
 アしましょう。近所のイベントから全国のイベントま
 で今日のイベント検索やスケジュールを決めるならち
 っくたっく
X-WR-CALNAME:ちっくたっく
X-WR-TIMEZONE:UTC
BEGIN:VEVENT
SUMMARY:Drone Racing on Siebrits fields
DTSTART;VALUE=DATE:20260515
DTEND;VALUE=DATE:20260516
UID:329780094484
DESCRIPTION:Drone Racing on Siebrits fields
LOCATION:Somerset College\, Bredell Road (off the R44 between Stellenbosch
  and Somerset West\, Somerset West\, Cape Town\, South Africa
END:VEVENT
END:VCALENDAR
