BEGIN:VCALENDAR
VERSION:2.0
PRODID:-//chikkutakku.com//RDFCal 1.0//EN
X-WR-CALDESC:GoogleカレンダーやiCalendar形式情報を共有シェ
 アしましょう。近所のイベントから全国のイベントま
 で今日のイベント検索やスケジュールを決めるならち
 っくたっく
X-WR-CALNAME:ちっくたっく
X-WR-TIMEZONE:UTC
BEGIN:VEVENT
SUMMARY:みどりの庭カフェ2026
DTSTART;VALUE=DATE:20260502
DTEND;VALUE=DATE:20260505
UID:330070323084
DESCRIPTION:5/3 恵温カレーの日\n5/4 yummy!!!!! ピクニック\n5/5
  yavas農園
LOCATION:
END:VEVENT
END:VCALENDAR
