BEGIN:VCALENDAR
VERSION:2.0
PRODID:-//chikkutakku.com//RDFCal 1.0//EN
X-WR-CALDESC:GoogleカレンダーやiCalendar形式情報を共有シェ
 アしましょう。近所のイベントから全国のイベントま
 で今日のイベント検索やスケジュールを決めるならち
 っくたっく
X-WR-CALNAME:ちっくたっく
X-WR-TIMEZONE:UTC
BEGIN:VEVENT
SUMMARY:六本木 All of Me Club / Midnight Session
DTSTART;VALUE=DATE-TIME:20260424T145500Z
DTEND;VALUE=DATE-TIME:20260424T145500Z
UID:330502459101
DESCRIPTION:03-3403-1947\n\nStart 00:30 〜 3:00 【入れ替えなし】 
 Artist： 楠直孝 (Pf&amp\;Vo) M.C. ¥2000\n\nhttps://www.allofmeclub.ne
 t/
LOCATION:All Of Me Club\, 日本、〒107-0052 東京都港区赤坂９丁
 目６−２６ フォンテ六本木 ２Ｆ
END:VEVENT
END:VCALENDAR
