BEGIN:VCALENDAR
VERSION:2.0
PRODID:-//chikkutakku.com//RDFCal 1.0//EN
X-WR-CALDESC:GoogleカレンダーやiCalendar形式情報を共有シェ
 アしましょう。近所のイベントから全国のイベントま
 で今日のイベント検索やスケジュールを決めるならち
 っくたっく
X-WR-CALNAME:ちっくたっく
X-WR-TIMEZONE:UTC
BEGIN:VEVENT
SUMMARY:【学外相談会】横浜
DTSTART;VALUE=DATE-TIME:20260523T023000Z
DTEND;VALUE=DATE-TIME:20260523T090000Z
UID:330532634223
DESCRIPTION:武蔵大学ブース出展https://univ-festa.jp/
LOCATION:新都市ホール（横浜そごう9階）
END:VEVENT
END:VCALENDAR
