BEGIN:VCALENDAR
VERSION:2.0
PRODID:-//chikkutakku.com//RDFCal 1.0//EN
X-WR-CALDESC:GoogleカレンダーやiCalendar形式情報を共有シェ
 アしましょう。近所のイベントから全国のイベントま
 で今日のイベント検索やスケジュールを決めるならち
 っくたっく
X-WR-CALNAME:ちっくたっく
X-WR-TIMEZONE:UTC
BEGIN:VEVENT
SUMMARY:【注】異世界でチート能力を手にした俺は、現実
 世界をも無双する #1 異世界へ / #2 王星学園 / #3 人生の
 変化 / #4 勇気の一歩 / #5 新しい家族 / #6 賢者と魔法 / #7
  森の中の出会い / #8 校外学習 / #9 王女と暗殺者 / #10 師
 匠と弟子 / #11 いざ王都へ / #12 謎の襲撃者 / #13 優夜と
 佳織
DTSTART;VALUE=DATE-TIME:20260423T060000Z
DTEND;VALUE=DATE-TIME:20260423T123000Z
UID:330560381354
DESCRIPTION: / #1 異世界へ / #2 王星学園 / #3 人生の変化 / #4
  勇気の一歩 / #5 新しい家族 / #6 賢者と魔法 / #7 森の中
 の出会い / #8 校外学習 / #9 王女と暗殺者 / #10 師匠と弟
 子 / #11 いざ王都へ / #12 謎の襲撃者 / #13 優夜と佳織 / ht
 tps://abema.tv/channels/abema-anime/slots/Ah77ndGuHaSQB9 リピート放
 送は (#1～#13+TVSP) 異世界・ファンタジーアニメチャンネ
 ル 4/24(金) 14:00～ https://abema.tv/channels/isekai-anime/slots/AkN7Yp
 edfYm7PV (無料TS1週間)
LOCATION:Abemaアニメ
END:VEVENT
END:VCALENDAR
