BEGIN:VCALENDAR
VERSION:2.0
PRODID:-//chikkutakku.com//RDFCal 1.0//EN
X-WR-CALDESC:GoogleカレンダーやiCalendar形式情報を共有シェ
 アしましょう。近所のイベントから全国のイベントま
 で今日のイベント検索やスケジュールを決めるならち
 っくたっく
X-WR-CALNAME:ちっくたっく
X-WR-TIMEZONE:UTC
BEGIN:VEVENT
SUMMARY:栄養指導情報論実習
DTSTART;VALUE=DATE-TIME:20260421T065000Z
DTEND;VALUE=DATE-TIME:20260421T082000Z
UID:331285886841
DESCRIPTION:(石井) classroom
LOCATION:(石井) classroom
END:VEVENT
END:VCALENDAR
