BEGIN:VCALENDAR
VERSION:2.0
PRODID:-//chikkutakku.com//RDFCal 1.0//EN
X-WR-CALDESC:GoogleカレンダーやiCalendar形式情報を共有シェ
 アしましょう。近所のイベントから全国のイベントま
 で今日のイベント検索やスケジュールを決めるならち
 っくたっく
X-WR-CALNAME:ちっくたっく
X-WR-TIMEZONE:UTC
BEGIN:VEVENT
SUMMARY:【Spring Live in 大阪･京橋】ランチ＆ライブの部
DTSTART;VALUE=DATE-TIME:20260511T024500Z
DTEND;VALUE=DATE-TIME:20260511T053000Z
UID:331853438893
DESCRIPTION:会場：ライブハウス BERONICA\n内容：お食事～13
 時 ライブ\n料金：17\,000円（指定席、プレートランチ･
 デザート、1ドリンク付）
LOCATION:大阪府大阪市城東区蒲生1-8-7
END:VEVENT
END:VCALENDAR
