BEGIN:VCALENDAR
VERSION:2.0
PRODID:-//chikkutakku.com//RDFCal 1.0//EN
X-WR-CALDESC:GoogleカレンダーやiCalendar形式情報を共有シェ
 アしましょう。近所のイベントから全国のイベントま
 で今日のイベント検索やスケジュールを決めるならち
 っくたっく
X-WR-CALNAME:ちっくたっく
X-WR-TIMEZONE:UTC
BEGIN:VEVENT
SUMMARY:Daily Notices
DTSTART;VALUE=DATE:20260423
DTEND;VALUE=DATE:20260424
UID:332124657745
DESCRIPTION:Lit Quiz Training for team members- TODAY at lunch time in H1.
  The topic for today is mythology.Librarians Meeting at lunchtime on Tue
 sday 28th April in the library . Refreshments provided.University of Victo
 ria are here on Tuesday 21 April in U2 @ 12:50. all welcome to join to lea
 rn about what they have to offer.Duke of Edinburgh Meetings in G3 (Upstair
 s in Gym)Bronze - Meet at lunchtime on Wednesday 22nd AprilSilver and Gold
  - Meet at lunchtime on Friday 24th AprilMusic and performing artsJazz Ban
 d - Tues lunchtimesSenior Choir - Tues after school and Thursday activitie
 sJunior Choir - Wednesday lunchtimesWhat's on - Variety of concerts thoru
 gh Whangārei Music Society (ongoing)- Te Waiata Roa – The Long Song w
 ith Rob Thorne at the Hundertwasser Art Centre (this Friday)- Keep an eye 
 out for NZ Music Month events on around town- Atamira Dance "Rongo Whakap
 ā " : An intimate and shared exploration of presence\, connection\, and 
 community through dance. Find out more hereWhangārei | ONEONESIX29 April 
 – 1 May 2026Drama Opportunity"The Emerging Directors' Programme is a ser
 ies of intensives led by industry professionals in the community\, focused
  on empowering young performers into leadership\, self-direction\, ultimat
 ely with the aim that they can begin taking responsibility for their own 
 creative pathways. It culminates in an anthology production\, usually a co
 llection of scenes from various plays\, performed at ONEONESIX." - please 
 talk to Mrs Cook or Miss pridham if you are interested. We are looking fo
 r hungry young performing artists\, who are keen to give something specia
 l a thrash.Play it Strange Songwriting Competition entry closing dates (ST
 UDENT LED PROJECT)- Junior Songwriting Competition (yr9-11): 3 May- Peace 
 Project: 24 May- Waiata Māori Competition: 28 June- National Songwriting 
 Competition: 26 July- Album Art Competition: 3 AugustEnter at playitstrang
 e.org.nz/competitions  Calling musicians - Smokefree Rockqest and Smokef
 ree Tangata Beats Entries/HeatsAccess the Tangata Beats and Rockquest entr
 ies hereMore info about all events available hereN.B. Participation in Pla
 y It Strange and Rockquest is entirely student-led. Students are responsib
 le for forming their own groups\, organising rehearsals\, writing and prep
 aring their material\, and completing all entry requirements. While the sc
 hool is supportive of students pursuing these opportunities\, there is no 
 direct involvement from teachers in the preparation or submission process.
  Gym Weights Room UseThe Weights Room upstairs in the gym is available fo
 r students in Year 9 – 13 to use during lunchtimes. However\, you need t
 o be inducted and taken through a safety briefing before you can use it. I
 f this is something you are interested in\, see the PE teaching staff. ++
 +Rock band TutorAre you in a rock band and would be keen for tutoring from
  a professional rock musician? Tutoring sessions may be available dependin
 g on student interest! See Miss Pridham in U7 for details (fee applies). 
 Drum lessons available - email Miss Pridham. +++Kia ora Years 11-13\,I am
  accepting expressions of interest in regards to the Auckland Writers Fest
 ival school trip on Wednesday 13th May (please check if you have a Cambrid
 ge External Examination on this day). You will need to check with your tea
 chers if it's okay to miss the school day. I have 11 seats only. Preferenc
 e to 13s first.Please email or see me if you are interested. tracie.lark@
 hc.school.nzDAY 2 WEDNESDAY 13 MAY SECONDARY YEARS 9-13: 10.00am – 10.4
 5am Kiri Te Kanawa Theatre Gilbert Enoka10.55am – 11.40am Kiri Te Kanaw
 a Theatre Josh Silver11.40am Lunch &amp\; Book Signing12.30pm – 1.15pm 
 Kiri Te Kanawa Theatre Nikita Gill1.25pm – 2.10pm Kiri Te Kanawa Theatr
 e Matariki Bennett &amp\; Manaia Tuwhare-Hoani2.10pm Finish &amp\; Book 
 Signing.We leave around 630am and usually are home around 530pm.MsL:)+++
LOCATION:
END:VEVENT
END:VCALENDAR
