BEGIN:VCALENDAR
VERSION:2.0
PRODID:-//chikkutakku.com//RDFCal 1.0//EN
X-WR-CALDESC:GoogleカレンダーやiCalendar形式情報を共有シェ
 アしましょう。近所のイベントから全国のイベントま
 で今日のイベント検索やスケジュールを決めるならち
 っくたっく
X-WR-CALNAME:ちっくたっく
X-WR-TIMEZONE:UTC
BEGIN:VEVENT
SUMMARY:EVER FREE -Spring SPECIAL-2026
DTSTART;VALUE=DATE:20260425
DTEND;VALUE=DATE:20260426
UID:332550127620
DESCRIPTION:2026年4月26日(日)『EVER FREE -Spring SPECIAL-2026』◆
 時間 : 開場 9:25 / 開演9:35◆会場 : 新宿ACE◆出演者：レ
 ッスントゥミー / NEVER ODD OR EVEN / UniTia（ユニティア） / 
 私、姫なので！ / HUSHHUSH / WONDARIA / LONDON BLUE / 四六時中
 ムチュー / Clapotis / 雨宮るか / antares / 百々南@もふこめ 
 / ApolloStar / 愛♡きゃっち / 岩村　華 / セカイシティ / 
 気まぐれモンスター / first crush / シブヤDOMINION. / 東京fla
 vor / ANGEL  CANDY / 天使の羽衣◇◆◇――出演時間――◇
 ◆◇LIVE : 9:55~10:15特典会 : 11:05~12:00◇チケット情報◇〔
 予約〕前方1500円／後方500円〔当日〕前方2500円／後方150
 0円※各２D代別途◆プレイガイド：https://t-dv.com/0426everfr
 ee
LOCATION:LIVE HOUSE SHINJUKU ACE\, 日本、〒160-0021 東京都新宿区
 歌舞伎町２丁目４５−４ Gest30ビル 3階
END:VEVENT
END:VCALENDAR
