BEGIN:VCALENDAR
VERSION:2.0
PRODID:-//chikkutakku.com//RDFCal 1.0//EN
X-WR-CALDESC:GoogleカレンダーやiCalendar形式情報を共有シェ
 アしましょう。近所のイベントから全国のイベントま
 で今日のイベント検索やスケジュールを決めるならち
 っくたっく
X-WR-CALNAME:ちっくたっく
X-WR-TIMEZONE:UTC
BEGIN:VEVENT
SUMMARY:マッキンゼー流 なぜ同じ努力で成果が変わるの
 か
DTSTART;VALUE=DATE:20260427
DTEND;VALUE=DATE:20260428
UID:333096760084
DESCRIPTION:2026-04-28マッキンゼー流 なぜ同じ努力で成果が
 変わるのかマッキンゼー・アカデミー/坂本 貴則日経BP 
 日本経済新聞出版
LOCATION:
END:VEVENT
END:VCALENDAR
