BEGIN:VCALENDAR
VERSION:2.0
PRODID:-//chikkutakku.com//RDFCal 1.0//EN
X-WR-CALDESC:GoogleカレンダーやiCalendar形式情報を共有シェ
 アしましょう。近所のイベントから全国のイベントま
 で今日のイベント検索やスケジュールを決めるならち
 っくたっく
X-WR-CALNAME:ちっくたっく
X-WR-TIMEZONE:UTC
BEGIN:VEVENT
SUMMARY:偕成社文庫50年＿今、読んでおきたいSF・冒険セ
 ット（6冊セット）
DTSTART;VALUE=DATE:20260429
DTEND;VALUE=DATE:20260430
UID:333329147972
DESCRIPTION:2026-04偕成社文庫50年＿今、読んでおきたいSF・
 冒険セット（6冊セット）偕成社
LOCATION:
END:VEVENT
END:VCALENDAR
