BEGIN:VCALENDAR
VERSION:2.0
PRODID:-//chikkutakku.com//RDFCal 1.0//EN
X-WR-CALDESC:GoogleカレンダーやiCalendar形式情報を共有シェ
 アしましょう。近所のイベントから全国のイベントま
 で今日のイベント検索やスケジュールを決めるならち
 っくたっく
X-WR-CALNAME:ちっくたっく
X-WR-TIMEZONE:UTC
BEGIN:VEVENT
SUMMARY:(ผช.กัลยาณี/กง.ยุทธ์)ร่วม
 พิธีเจริญพระพุทธมนต์ สมเด
 ็จพระนางเจ้าสิริกิตติ์ ฯล
 ฯ ณ วัดศรีห้วยทับทัน อ.ห้วย
 ทับทัน
DTSTART;VALUE=DATE-TIME:20260424T050000Z
DTEND;VALUE=DATE-TIME:20260424T080000Z
UID:333981301043
DESCRIPTION:(ผช.กัลยาณี/กง.ยุทธ์)ร่ว
 มพิธีเจริญพระพุทธมนต์ สมเ
 ด็จพระนางเจ้าสิริกิตติ์ ฯ
 ลฯ ณ วัดศรีห้วยทับทัน อ.ห้ว
 ยทับทัน
LOCATION:
END:VEVENT
END:VCALENDAR
