BEGIN:VCALENDAR
VERSION:2.0
PRODID:-//chikkutakku.com//RDFCal 1.0//EN
X-WR-CALDESC:GoogleカレンダーやiCalendar形式情報を共有シェ
 アしましょう。近所のイベントから全国のイベントま
 で今日のイベント検索やスケジュールを決めるならち
 っくたっく
X-WR-CALNAME:ちっくたっく
X-WR-TIMEZONE:UTC
BEGIN:VEVENT
SUMMARY:特殊切手「２０２７年国際園芸博覧会（寄付金付
 ）」の発行\, via 日本郵便株式会社 https://ift.tt/4JrRn3U Marc
 h 19\, 2026 at
DTSTART;VALUE=DATE:20260518
DTEND;VALUE=DATE:20260519
UID:334332568603
DESCRIPTION:特殊切手「２０２７年国際園芸博覧会（寄付
 金付）」の発行\, via 日本郵便株式会社 https://ift.tt/4JrRn3
 U March 19\, 2026 at
LOCATION:
END:VEVENT
END:VCALENDAR
