BEGIN:VCALENDAR
VERSION:2.0
PRODID:-//chikkutakku.com//RDFCal 1.0//EN
X-WR-CALDESC:GoogleカレンダーやiCalendar形式情報を共有シェ
 アしましょう。近所のイベントから全国のイベントま
 で今日のイベント検索やスケジュールを決めるならち
 っくたっく
X-WR-CALNAME:ちっくたっく
X-WR-TIMEZONE:UTC
BEGIN:VEVENT
SUMMARY:ARCANA PROJECT ニューシングル「しあわせフレーバー
 」リリースイベント
DTSTART;VALUE=DATE-TIME:20260421T103000Z
DTEND;VALUE=DATE-TIME:20260421T113000Z
UID:334455506901
DESCRIPTION:<a href="https://tower.jp/store/event/2026/04/055043a">https:/
 /tower.jp/store/event/2026/04/055043a</a><br>ARCANA PROJECT│【4月21日
 】 ニューシングル「しあわせフレーバー」リリースイ
 ベント決定！@タワーレコード新宿店<br>開催日時<br>2026
 年04月21日(火) 19:30<br>場所<br>新宿店   9F<br>出演<br>ARCANA 
 PROJECT<br>参加方法<br>日程：2026年4月21日(火)<br>開催時間
 ：19:30～　[優先観覧エリアご入場開始：19:10]<br>会場：
 タワーレコード新宿店 9Fイベントスペース<br>住所：〒1
 60-0022東京都新宿区新宿3-37-1 フラッグス9F～10F<br>アクセ
 ス：<a href="https://tower.jp/store/kanto/Shinjuku">https://tower.jp/sto
 re/kanto/Shinjuku</a><br><br>■集合時間／集合場所<br>開始20分
 前(19:10)に9階エレベーターホール横階段にお集まり下さ
 い。<br><br>■イベント内容<br>ミニライブ＆特典会<br><br>
 ■ミニライブ・ご観覧方法について<br>・優先観覧エリ
 アでのご観覧には、「優先観覧エリア入場整理券」が
 必要となります。<br>・「優先観覧エリア入場整理券」
 をお持ちの方のご案内が終了し、後方スペースに余裕
 がある場合は、フリー観覧エリアとして開放させてい
 ただく場合もございます。<br>・観覧エリア外からの立
 ち止まってのご観覧は、状況によりご移動をいただく
 場合もございます。予めご了承願います。<br><br>（「優
 先観覧エリア入場整理券」の配布に関して）<br>※イベ
 ント当日、17:30よりタワーレコード新宿店にて対象商品
 をご購入頂いたお客様に先着で「優先観覧エリア入場
 整理券」をお渡しいたします。<br>※「優先観覧エリア
 入場整理券」の配布はお一人様1枚までとさせていただ
 きます。<br>※「優先観覧エリア入場整理券」の配布は
 規定枚数になり次第、配布終了となります。<br>※「優
 先観覧エリア入場整理券」の整理番号はランダムでの
 配布となります。<br>※「優先観覧エリア入場整理券」
 をお持ちの方は、イベント開始20分前に会場にお集まり
 下さい。<br>※整理番号順に優先観覧エリアにご入場頂
 きます。<br>※集合時間に遅れた場合は、「優先観覧エ
 リア入場整理券」の整理番号が無効となり、最後尾の
 からのご入場となります、また場合によっては「優先
 観覧エリア」にご入場頂けない場合もございますので
 ご了承下さい。<br>※お連れ様と、一緒にご観覧をご希
 望になられる際は、整理番号の遅い番号の方とご一緒
 にご入場ください。<br><br>■特典会について<br>イベン
 ト当日、タワーレコード新宿店にて、対象商品をご購
 入いただいたお客様に先着で「特典券」をお会計後に
 お渡しいたします。<br>※「特典券」は、数に限りがご
 ざいます。上限に達し次第、配布を終了いたします。<b
 r>※指定場所、指定時間外での購入は対象外となります
 。<br>※ご予約・お取り置きによる「特典券」の確保は
 不可とさせて頂きます。予めご了承ください。<br><br>※
 「特典券」はいかなる場合（紛失・盗難等含む）にお
 いても再発行は致しませんのでご了承ください。<br>※
 入場された方の、他の場所取りは一切禁止とします。
 ご自身がお持ちになった荷物が場所取りになっている
 と運営スタッフが判断した際はお声掛けさせていただ
 きます。ご協力をお願い致します。<br>※お会計時、値
 引きクーポンやポイント値引きを使用される場合、値
 引き後のお値段に対して特典券をお渡しいたします。
LOCATION:タワーレコード新宿店 9Fイベントスペース
END:VEVENT
END:VCALENDAR
