BEGIN:VCALENDAR
VERSION:2.0
PRODID:-//chikkutakku.com//RDFCal 1.0//EN
X-WR-CALDESC:GoogleカレンダーやiCalendar形式情報を共有シェ
 アしましょう。近所のイベントから全国のイベントま
 で今日のイベント検索やスケジュールを決めるならち
 っくたっく
X-WR-CALNAME:ちっくたっく
X-WR-TIMEZONE:UTC
BEGIN:VEVENT
SUMMARY: hitomi・Chimu・みづきんコラボ配信
DTSTART;VALUE=DATE-TIME:20260423T030000Z
DTEND;VALUE=DATE-TIME:20260423T040000Z
UID:334907505114
DESCRIPTION: hitomi・Chimu・みづきんコラボ配信
LOCATION:
END:VEVENT
END:VCALENDAR
