BEGIN:VCALENDAR
VERSION:2.0
PRODID:-//chikkutakku.com//RDFCal 1.0//EN
X-WR-CALDESC:GoogleカレンダーやiCalendar形式情報を共有シェ
 アしましょう。近所のイベントから全国のイベントま
 で今日のイベント検索やスケジュールを決めるならち
 っくたっく
X-WR-CALNAME:ちっくたっく
X-WR-TIMEZONE:UTC
BEGIN:VEVENT
SUMMARY:(พจ. /ผอ.ทุกกลุ่ม) อสพ. รุ่น
  77 ทดแทน เข้ารายงานตัว
DTSTART;VALUE=DATE-TIME:20260424T020000Z
DTEND;VALUE=DATE-TIME:20260424T050000Z
UID:335172520032
DESCRIPTION:(พจ. /ผอ.ทุกกลุ่ม) อสพ. รุ
 ่น 77 ทดแทน เข้ารายงานตัว
LOCATION:
END:VEVENT
END:VCALENDAR
