BEGIN:VCALENDAR
VERSION:2.0
PRODID:-//chikkutakku.com//RDFCal 1.0//EN
X-WR-CALDESC:GoogleカレンダーやiCalendar形式情報を共有シェ
 アしましょう。近所のイベントから全国のイベントま
 で今日のイベント検索やスケジュールを決めるならち
 っくたっく
X-WR-CALNAME:ちっくたっく
X-WR-TIMEZONE:UTC
BEGIN:VEVENT
SUMMARY:ALTTPR League S8 Invitational: What the Specks_Beatable Thieves To
 wn
DTSTART;VALUE=DATE-TIME:20260421T033000Z
DTEND;VALUE=DATE-TIME:20260421T060000Z
UID:335416586363
DESCRIPTION:A Link to the Past Randomizer Invitational League Season 8\nSp
 ecks/JamesFnX. Gammachuu/ph112358\nhttp://twitch.tv/SpeedGaming\n\n\n[upda
 ted 2026-04-20T10:26:03+00:00]
LOCATION:
END:VEVENT
END:VCALENDAR
